Package: agilp Version: 3.41.0 Command: /home/biocbuild/bbs-3.22-bioc/R/bin/R CMD check --install=check:agilp.install-out.txt --library=/home/biocbuild/bbs-3.22-bioc/R/site-library --timings agilp_3.41.0.tar.gz StartedAt: 2025-07-01 19:52:33 -0400 (Tue, 01 Jul 2025) EndedAt: 2025-07-01 19:52:50 -0400 (Tue, 01 Jul 2025) EllapsedTime: 17.0 seconds RetCode: 0 Status: OK CheckDir: agilp.Rcheck Warnings: 0