Package: agilp Version: 3.41.0 Command: /home/biocbuild/bbs-3.22-bioc/R/bin/R CMD build --keep-empty-dirs --no-resave-data --md5 agilp StartedAt: 2025-07-01 16:05:07 -0400 (Tue, 01 Jul 2025) EndedAt: 2025-07-01 16:05:13 -0400 (Tue, 01 Jul 2025) EllapsedTime: 6.0 seconds RetCode: 0 Status: OK PackageFile: agilp_3.41.0.tar.gz PackageFileSize: 453.8 KiB