Package: aggregateBioVar Version: 1.19.0 Command: F:\biocbuild\bbs-3.22-bioc\R\bin\R.exe CMD check --no-multiarch --install=check:aggregateBioVar.install-out.txt --library=F:\biocbuild\bbs-3.22-bioc\R\library --no-vignettes --timings aggregateBioVar_1.19.0.tar.gz StartedAt: 2025-08-15 00:22:49 -0400 (Fri, 15 Aug 2025) EndedAt: 2025-08-15 00:26:19 -0400 (Fri, 15 Aug 2025) EllapsedTime: 210.5 seconds RetCode: 0 Status: OK CheckDir: aggregateBioVar.Rcheck Warnings: 0