Package: aggregateBioVar Version: 1.19.0 Command: /home/biocbuild/bbs-3.22-bioc/R/bin/R CMD INSTALL aggregateBioVar StartedAt: 2025-10-05 15:18:49 -0400 (Sun, 05 Oct 2025) EndedAt: 2025-10-05 15:19:11 -0400 (Sun, 05 Oct 2025) EllapsedTime: 21.6 seconds RetCode: 0 Status: OK