Package: aggregateBioVar Version: 1.19.0 Command: /home/biocbuild/bbs-3.22-bioc/R/bin/R CMD check --install=check:aggregateBioVar.install-out.txt --library=/home/biocbuild/bbs-3.22-bioc/R/site-library --timings aggregateBioVar_1.19.0.tar.gz StartedAt: 2025-10-05 21:00:41 -0400 (Sun, 05 Oct 2025) EndedAt: 2025-10-05 21:04:28 -0400 (Sun, 05 Oct 2025) EllapsedTime: 227.3 seconds RetCode: 0 Status: OK CheckDir: aggregateBioVar.Rcheck Warnings: 0