Package: aggregateBioVar Version: 1.19.0 Command: /home/biocbuild/bbs-3.22-bioc/R/bin/R CMD build --keep-empty-dirs --no-resave-data --md5 aggregateBioVar StartedAt: 2025-10-05 16:07:45 -0400 (Sun, 05 Oct 2025) EndedAt: 2025-10-05 16:09:05 -0400 (Sun, 05 Oct 2025) EllapsedTime: 80.1 seconds RetCode: 0 Status: OK PackageFile: aggregateBioVar_1.19.0.tar.gz PackageFileSize: 1.201 MiB