Package: affylmGUI Version: 1.83.0 Command: F:\biocbuild\bbs-3.22-bioc\R\bin\R.exe CMD INSTALL affylmGUI StartedAt: 2025-07-20 15:48:50 -0400 (Sun, 20 Jul 2025) EndedAt: 2025-07-20 15:49:54 -0400 (Sun, 20 Jul 2025) EllapsedTime: 64.4 seconds RetCode: 0 Status: OK