Package: affylmGUI Version: 1.83.0 Command: /Library/Frameworks/R.framework/Resources/bin/R CMD INSTALL affylmGUI StartedAt: 2025-07-07 15:08:26 -0400 (Mon, 07 Jul 2025) EndedAt: 2025-07-07 15:08:35 -0400 (Mon, 07 Jul 2025) EllapsedTime: 9.2 seconds RetCode: 0 Status: OK