Package: affyio Version: 1.79.0 Command: /home/biocbuild/R/R/bin/R CMD check --install=check:affyio.install-out.txt --library=/home/biocbuild/R/R/site-library --no-vignettes --timings affyio_1.79.0.tar.gz StartedAt: 2025-07-18 04:12:39 -0000 (Fri, 18 Jul 2025) EndedAt: 2025-07-18 04:12:54 -0000 (Fri, 18 Jul 2025) EllapsedTime: 15.0 seconds RetCode: 0 Status: WARNINGS CheckDir: affyio.Rcheck Warnings: 2