Package: affyio Version: 1.79.0 Command: /home/biocbuild/R/R/bin/R CMD build --keep-empty-dirs --no-resave-data affyio StartedAt: 2025-07-14 21:33:22 -0000 (Mon, 14 Jul 2025) EndedAt: 2025-07-14 21:33:23 -0000 (Mon, 14 Jul 2025) EllapsedTime: 1.0 seconds RetCode: 0 Status: OK PackageFile: affyio_1.79.0.tar.gz PackageFileSize: 107.8 KiB