Package: affyio Version: 1.79.0 Command: F:\biocbuild\bbs-3.22-bioc\R\bin\R.exe CMD INSTALL affyio StartedAt: 2025-07-20 15:18:44 -0400 (Sun, 20 Jul 2025) EndedAt: 2025-07-20 15:19:04 -0400 (Sun, 20 Jul 2025) EllapsedTime: 20.1 seconds RetCode: 0 Status: OK