Package: affyio Version: 1.79.0 Command: chmod a+r affyio -R && F:\biocbuild\bbs-3.22-bioc\R\bin\R.exe CMD build --keep-empty-dirs --no-resave-data affyio StartedAt: 2025-07-20 17:15:05 -0400 (Sun, 20 Jul 2025) EndedAt: 2025-07-20 17:15:09 -0400 (Sun, 20 Jul 2025) EllapsedTime: 4.1 seconds RetCode: 0 Status: OK PackageFile: affyio_1.79.0.tar.gz PackageFileSize: 107.5 KiB