Package: affyio Version: 1.79.0 Command: /Library/Frameworks/R.framework/Resources/bin/R CMD check --install=check:affyio.install-out.txt --library=/Library/Frameworks/R.framework/Resources/library --no-vignettes --timings affyio_1.79.0.tar.gz StartedAt: 2025-07-14 19:04:37 -0400 (Mon, 14 Jul 2025) EndedAt: 2025-07-14 19:05:19 -0400 (Mon, 14 Jul 2025) EllapsedTime: 42.1 seconds RetCode: 0 Status: WARNINGS CheckDir: affyio.Rcheck Warnings: 2