Package: affycomp Version: 1.85.0 Command: F:\biocbuild\bbs-3.22-bioc\R\bin\R.exe CMD INSTALL affycomp StartedAt: 2025-07-24 15:46:05 -0400 (Thu, 24 Jul 2025) EndedAt: 2025-07-24 15:46:30 -0400 (Thu, 24 Jul 2025) EllapsedTime: 25.0 seconds RetCode: 0 Status: OK