Package: affycomp Version: 1.85.0 Command: /Library/Frameworks/R.framework/Resources/bin/R CMD check --install=check:affycomp.install-out.txt --library=/Library/Frameworks/R.framework/Resources/library --no-vignettes --timings affycomp_1.85.0.tar.gz StartedAt: 2025-07-21 18:57:09 -0400 (Mon, 21 Jul 2025) EndedAt: 2025-07-21 18:58:08 -0400 (Mon, 21 Jul 2025) EllapsedTime: 59.2 seconds RetCode: 0 Status: OK CheckDir: affycomp.Rcheck Warnings: 0