Package: affyPLM Version: 1.85.0 Command: F:\biocbuild\bbs-3.22-bioc\R\bin\R.exe CMD check --no-multiarch --install=check:affyPLM.install-out.txt --library=F:\biocbuild\bbs-3.22-bioc\R\library --no-vignettes --timings affyPLM_1.85.0.tar.gz StartedAt: 2025-07-17 23:08:59 -0400 (Thu, 17 Jul 2025) EndedAt: 2025-07-17 23:11:55 -0400 (Thu, 17 Jul 2025) EllapsedTime: 176.0 seconds RetCode: 0 Status: WARNINGS CheckDir: affyPLM.Rcheck Warnings: 1