Package: affyPLM Version: 1.85.0 Command: chmod a+r affyPLM -R && F:\biocbuild\bbs-3.22-bioc\R\bin\R.exe CMD build --keep-empty-dirs --no-resave-data affyPLM StartedAt: 2025-07-16 17:15:46 -0400 (Wed, 16 Jul 2025) EndedAt: 2025-07-16 17:19:43 -0400 (Wed, 16 Jul 2025) EllapsedTime: 236.7 seconds RetCode: 0 Status: OK PackageFile: affyPLM_1.85.0.tar.gz PackageFileSize: 4.563 MiB