Package: affyPLM Version: 1.85.0 Command: /Library/Frameworks/R.framework/Resources/bin/R CMD INSTALL affyPLM StartedAt: 2025-07-01 15:29:55 -0400 (Tue, 01 Jul 2025) EndedAt: 2025-07-01 15:30:29 -0400 (Tue, 01 Jul 2025) EllapsedTime: 34.7 seconds RetCode: 0 Status: OK