Package: affyILM Version: 1.61.0 Command: /Library/Frameworks/R.framework/Resources/bin/R CMD INSTALL affyILM StartedAt: 2025-10-23 15:08:13 -0400 (Thu, 23 Oct 2025) EndedAt: 2025-10-23 15:08:18 -0400 (Thu, 23 Oct 2025) EllapsedTime: 5.8 seconds RetCode: 0 Status: OK