Package: affyContam Version: 1.67.0 Command: F:\biocbuild\bbs-3.22-bioc\R\bin\R.exe CMD check --no-multiarch --install=check:affyContam.install-out.txt --library=F:\biocbuild\bbs-3.22-bioc\R\library --no-vignettes --timings affyContam_1.67.0.tar.gz StartedAt: 2025-07-01 23:09:26 -0400 (Tue, 01 Jul 2025) EndedAt: 2025-07-01 23:10:17 -0400 (Tue, 01 Jul 2025) EllapsedTime: 51.5 seconds RetCode: 0 Status: OK CheckDir: affyContam.Rcheck Warnings: 0