Package: affyContam Version: 1.67.0 Command: rm -rf affyContam.buildbin-libdir && mkdir affyContam.buildbin-libdir && F:\biocbuild\bbs-3.22-bioc\R\bin\R.exe CMD INSTALL --build --library=affyContam.buildbin-libdir affyContam_1.67.0.tar.gz StartedAt: 2025-06-30 08:09:16 -0400 (Mon, 30 Jun 2025) EndedAt: 2025-06-30 08:09:28 -0400 (Mon, 30 Jun 2025) EllapsedTime: 11.7 seconds RetCode: 0 Status: OK PackageFile: affyContam_1.67.0.zip PackageFileSize: 216 KiB