Package: affy Version: 1.87.0 Command: /Library/Frameworks/R.framework/Resources/bin/R CMD INSTALL affy StartedAt: 2025-07-07 15:13:12 -0400 (Mon, 07 Jul 2025) EndedAt: 2025-07-07 15:13:32 -0400 (Mon, 07 Jul 2025) EllapsedTime: 20.0 seconds RetCode: 0 Status: OK