Package: affy Version: 1.87.0 Command: /Library/Frameworks/R.framework/Resources/bin/R CMD build --keep-empty-dirs --no-resave-data affy StartedAt: 2025-07-07 16:01:37 -0400 (Mon, 07 Jul 2025) EndedAt: 2025-07-07 16:02:58 -0400 (Mon, 07 Jul 2025) EllapsedTime: 81.2 seconds RetCode: 0 Status: OK PackageFile: affy_1.87.0.tar.gz PackageFileSize: 1.68 MiB