Package: affy Version: 1.87.0 Command: /Library/Frameworks/R.framework/Resources/bin/R CMD INSTALL affy StartedAt: 2025-07-22 15:07:02 -0400 (Tue, 22 Jul 2025) EndedAt: 2025-07-22 15:07:07 -0400 (Tue, 22 Jul 2025) EllapsedTime: 4.4 seconds RetCode: 0 Status: OK