Package: affy Version: 1.87.0 Command: /Library/Frameworks/R.framework/Resources/bin/R CMD check --install=check:affy.install-out.txt --library=/Library/Frameworks/R.framework/Resources/library --no-vignettes --timings affy_1.87.0.tar.gz StartedAt: 2025-07-22 17:59:01 -0400 (Tue, 22 Jul 2025) EndedAt: 2025-07-22 18:00:00 -0400 (Tue, 22 Jul 2025) EllapsedTime: 58.9 seconds RetCode: 0 Status: WARNINGS CheckDir: affy.Rcheck Warnings: 1