Package: affy Version: 1.87.0 Command: /Library/Frameworks/R.framework/Resources/bin/R CMD build --keep-empty-dirs --no-resave-data affy StartedAt: 2025-07-22 15:34:33 -0400 (Tue, 22 Jul 2025) EndedAt: 2025-07-22 15:35:03 -0400 (Tue, 22 Jul 2025) EllapsedTime: 30.3 seconds RetCode: 0 Status: OK PackageFile: affy_1.87.0.tar.gz PackageFileSize: 1.683 MiB