Package: affy Version: 1.87.0 Command: rm -rf affy.buildbin-libdir && mkdir affy.buildbin-libdir && /Users/biocbuild/BBS/utils/build-universal.sh affy_1.87.0.tar.gz /Library/Frameworks/R.framework/Resources/bin/R affy.buildbin-libdir StartedAt: 2025-07-22 22:15:11 -0400 (Tue, 22 Jul 2025) EndedAt: 2025-07-22 22:15:17 -0400 (Tue, 22 Jul 2025) EllapsedTime: 6.1 seconds RetCode: 0 Status: OK PackageFile: affy_1.87.0.tgz PackageFileSize: 1.997 MiB