Package: affxparser Version: 1.81.0 Command: chmod a+r affxparser -R && F:\biocbuild\bbs-3.22-bioc\R\bin\R.exe CMD build --keep-empty-dirs --no-resave-data affxparser StartedAt: 2025-07-22 17:16:20 -0400 (Tue, 22 Jul 2025) EndedAt: 2025-07-22 17:17:29 -0400 (Tue, 22 Jul 2025) EllapsedTime: 68.7 seconds RetCode: 0 Status: OK PackageFile: affxparser_1.81.0.tar.gz PackageFileSize: 782.7 KiB