Package: affxparser Version: 1.81.0 Command: rm -rf affxparser.buildbin-libdir && mkdir affxparser.buildbin-libdir && F:\biocbuild\bbs-3.22-bioc\R\bin\R.exe CMD INSTALL --build --library=affxparser.buildbin-libdir affxparser_1.81.0.tar.gz StartedAt: 2025-07-23 08:32:18 -0400 (Wed, 23 Jul 2025) EndedAt: 2025-07-23 08:39:48 -0400 (Wed, 23 Jul 2025) EllapsedTime: 450.2 seconds RetCode: 0 Status: OK PackageFile: affxparser_1.81.0.zip PackageFileSize: 1.308 MiB