Package: adductomicsR Version: 1.25.0 Command: /home/biocbuild/R/R/bin/R CMD INSTALL adductomicsR StartedAt: 2025-06-30 20:51:50 -0000 (Mon, 30 Jun 2025) EndedAt: 2025-06-30 20:52:21 -0000 (Mon, 30 Jun 2025) EllapsedTime: 30.4 seconds RetCode: 0 Status: OK