Package: adductomicsR Version: 1.25.0 Command: /home/biocbuild/R/R/bin/R CMD check --install=check:adductomicsR.install-out.txt --library=/home/biocbuild/R/R/site-library --no-vignettes --timings adductomicsR_1.25.0.tar.gz StartedAt: 2025-07-01 04:24:08 -0000 (Tue, 01 Jul 2025) EndedAt: 2025-07-01 04:32:36 -0000 (Tue, 01 Jul 2025) EllapsedTime: 508.6 seconds RetCode: 0 Status: WARNINGS CheckDir: adductomicsR.Rcheck Warnings: 1