Package: adductomicsR Version: 1.25.0 Command: /home/biocbuild/R/R/bin/R CMD build --keep-empty-dirs --no-resave-data adductomicsR StartedAt: 2025-06-30 21:35:26 -0000 (Mon, 30 Jun 2025) EndedAt: 2025-06-30 22:10:02 -0000 (Mon, 30 Jun 2025) EllapsedTime: 2075.6 seconds RetCode: 0 Status: OK PackageFile: adductomicsR_1.25.0.tar.gz PackageFileSize: 752.6 KiB