Package: adSplit Version: 1.79.0 Command: F:\biocbuild\bbs-3.22-bioc\R\bin\R.exe CMD INSTALL adSplit StartedAt: 2025-07-21 16:09:06 -0400 (Mon, 21 Jul 2025) EndedAt: 2025-07-21 16:09:30 -0400 (Mon, 21 Jul 2025) EllapsedTime: 23.7 seconds RetCode: 0 Status: OK