Package: adSplit Version: 1.79.0 Command: F:\biocbuild\bbs-3.22-bioc\R\bin\R.exe CMD check --no-multiarch --install=check:adSplit.install-out.txt --library=F:\biocbuild\bbs-3.22-bioc\R\library --no-vignettes --timings adSplit_1.79.0.tar.gz StartedAt: 2025-07-21 23:13:37 -0400 (Mon, 21 Jul 2025) EndedAt: 2025-07-21 23:18:44 -0400 (Mon, 21 Jul 2025) EllapsedTime: 306.9 seconds RetCode: 0 Status: OK CheckDir: adSplit.Rcheck Warnings: 0