Package: adSplit Version: 1.79.0 Command: chmod a+r adSplit -R && F:\biocbuild\bbs-3.22-bioc\R\bin\R.exe CMD build --keep-empty-dirs --no-resave-data adSplit StartedAt: 2025-07-21 17:20:41 -0400 (Mon, 21 Jul 2025) EndedAt: 2025-07-21 17:23:18 -0400 (Mon, 21 Jul 2025) EllapsedTime: 156.9 seconds RetCode: 0 Status: OK PackageFile: adSplit_1.79.0.tar.gz PackageFileSize: 287.7 KiB