Package: acde Version: 1.39.0 Command: /home/biocbuild/R/R/bin/R CMD check --install=check:acde.install-out.txt --library=/home/biocbuild/R/R/site-library --no-vignettes --timings acde_1.39.0.tar.gz StartedAt: 2025-07-22 04:22:26 -0000 (Tue, 22 Jul 2025) EndedAt: 2025-07-22 04:25:27 -0000 (Tue, 22 Jul 2025) EllapsedTime: 180.4 seconds RetCode: 0 Status: OK CheckDir: acde.Rcheck Warnings: 0