Package: acde Version: 1.39.0 Command: /home/biocbuild/R/R/bin/R CMD build --keep-empty-dirs --no-resave-data acde StartedAt: 2025-07-17 21:28:25 -0000 (Thu, 17 Jul 2025) EndedAt: 2025-07-17 21:28:39 -0000 (Thu, 17 Jul 2025) EllapsedTime: 14.0 seconds RetCode: 0 Status: OK PackageFile: acde_1.39.0.tar.gz PackageFileSize: 8.859 MiB