Package: acde Version: 1.39.0 Command: /Library/Frameworks/R.framework/Resources/bin/R CMD check --install=check:acde.install-out.txt --library=/Library/Frameworks/R.framework/Resources/library --no-vignettes --timings acde_1.39.0.tar.gz StartedAt: 2025-07-14 19:04:37 -0400 (Mon, 14 Jul 2025) EndedAt: 2025-07-14 19:06:12 -0400 (Mon, 14 Jul 2025) EllapsedTime: 95.3 seconds RetCode: 0 Status: OK CheckDir: acde.Rcheck Warnings: 0