Package: abseqR Version: 1.27.0 Command: /home/biocbuild/R/R/bin/R CMD INSTALL abseqR StartedAt: 2025-06-30 20:26:00 -0000 (Mon, 30 Jun 2025) EndedAt: 2025-06-30 20:26:34 -0000 (Mon, 30 Jun 2025) EllapsedTime: 34.2 seconds RetCode: 0 Status: OK