Package: abseqR Version: 1.27.0 Command: /home/biocbuild/R/R/bin/R CMD check --install=check:abseqR.install-out.txt --library=/home/biocbuild/R/R/site-library --no-vignettes --timings abseqR_1.27.0.tar.gz StartedAt: 2025-07-01 04:24:08 -0000 (Tue, 01 Jul 2025) EndedAt: 2025-07-01 04:26:32 -0000 (Tue, 01 Jul 2025) EllapsedTime: 144.2 seconds RetCode: 0 Status: OK CheckDir: abseqR.Rcheck Warnings: 0