Package: abseqR Version: 1.27.0 Command: F:\biocbuild\bbs-3.22-bioc\R\bin\R.exe CMD INSTALL abseqR StartedAt: 2025-07-02 15:51:53 -0400 (Wed, 02 Jul 2025) EndedAt: 2025-07-02 15:57:48 -0400 (Wed, 02 Jul 2025) EllapsedTime: 354.2 seconds RetCode: 0 Status: OK