Package: abseqR Version: 1.27.0 Command: chmod a+r abseqR -R && F:\biocbuild\bbs-3.22-bioc\R\bin\R.exe CMD build --keep-empty-dirs --no-resave-data abseqR StartedAt: 2025-07-02 17:19:46 -0400 (Wed, 02 Jul 2025) EndedAt: 2025-07-02 17:24:03 -0400 (Wed, 02 Jul 2025) EllapsedTime: 257.0 seconds RetCode: 0 Status: OK PackageFile: abseqR_1.27.0.tar.gz PackageFileSize: 2.145 MiB