Package: abseqR Version: 1.27.0 Command: rm -rf abseqR.buildbin-libdir && mkdir abseqR.buildbin-libdir && F:\biocbuild\bbs-3.22-bioc\R\bin\R.exe CMD INSTALL --build --library=abseqR.buildbin-libdir abseqR_1.27.0.tar.gz StartedAt: 2025-07-03 08:28:15 -0400 (Thu, 03 Jul 2025) EndedAt: 2025-07-03 08:30:41 -0400 (Thu, 03 Jul 2025) EllapsedTime: 146.0 seconds RetCode: 0 Status: OK PackageFile: abseqR_1.27.0.zip PackageFileSize: 2.24 MiB