Package: aCGH Version: 1.87.0 Command: /home/biocbuild/R/R/bin/R CMD INSTALL aCGH StartedAt: 2025-06-30 20:27:55 -0000 (Mon, 30 Jun 2025) EndedAt: 2025-06-30 20:28:15 -0000 (Mon, 30 Jun 2025) EllapsedTime: 20.3 seconds RetCode: 0 Status: OK