Package: aCGH Version: 1.87.0 Command: /home/biocbuild/R/R/bin/R CMD check --install=check:aCGH.install-out.txt --library=/home/biocbuild/R/R/site-library --no-vignettes --timings aCGH_1.87.0.tar.gz StartedAt: 2025-07-04 03:59:10 -0000 (Fri, 04 Jul 2025) EndedAt: 2025-07-04 04:00:52 -0000 (Fri, 04 Jul 2025) EllapsedTime: 102.1 seconds RetCode: 0 Status: OK CheckDir: aCGH.Rcheck Warnings: 0