Package: aCGH Version: 1.87.0 Command: F:\biocbuild\bbs-3.22-bioc\R\bin\R.exe CMD check --no-multiarch --install=check:aCGH.install-out.txt --library=F:\biocbuild\bbs-3.22-bioc\R\library --no-vignettes --timings aCGH_1.87.0.tar.gz StartedAt: 2025-07-21 23:13:37 -0400 (Mon, 21 Jul 2025) EndedAt: 2025-07-21 23:15:20 -0400 (Mon, 21 Jul 2025) EllapsedTime: 103.3 seconds RetCode: 0 Status: OK CheckDir: aCGH.Rcheck Warnings: 0