Package: aCGH Version: 1.87.0 Command: chmod a+r aCGH -R && F:\biocbuild\bbs-3.22-bioc\R\bin\R.exe CMD build --keep-empty-dirs --no-resave-data aCGH StartedAt: 2025-07-20 17:14:01 -0400 (Sun, 20 Jul 2025) EndedAt: 2025-07-20 17:15:31 -0400 (Sun, 20 Jul 2025) EllapsedTime: 89.9 seconds RetCode: 0 Status: OK PackageFile: aCGH_1.87.0.tar.gz PackageFileSize: 2.097 MiB