Package: aCGH Version: 1.87.0 Command: /Library/Frameworks/R.framework/Resources/bin/R CMD INSTALL aCGH StartedAt: 2025-07-04 15:06:59 -0400 (Fri, 04 Jul 2025) EndedAt: 2025-07-04 15:07:03 -0400 (Fri, 04 Jul 2025) EllapsedTime: 4.3 seconds RetCode: 0 Status: OK