Package: aCGH Version: 1.87.0 Command: /Library/Frameworks/R.framework/Resources/bin/R CMD build --keep-empty-dirs --no-resave-data aCGH StartedAt: 2025-07-04 15:34:13 -0400 (Fri, 04 Jul 2025) EndedAt: 2025-07-04 15:34:26 -0400 (Fri, 04 Jul 2025) EllapsedTime: 13.2 seconds RetCode: 0 Status: OK PackageFile: aCGH_1.87.0.tar.gz PackageFileSize: 2.218 MiB