Package: a4Reporting Version: 1.57.0 Command: F:\biocbuild\bbs-3.22-bioc\R\bin\R.exe CMD check --no-multiarch --install=check:a4Reporting.install-out.txt --library=F:\biocbuild\bbs-3.22-bioc\R\library --no-vignettes --timings a4Reporting_1.57.0.tar.gz StartedAt: 2025-07-21 23:13:37 -0400 (Mon, 21 Jul 2025) EndedAt: 2025-07-21 23:14:20 -0400 (Mon, 21 Jul 2025) EllapsedTime: 43.3 seconds RetCode: 0 Status: OK CheckDir: a4Reporting.Rcheck Warnings: 0